BEGIN:VCALENDAR
VERSION:2.0
PRODID:-//Fiamberti Vini - ECPv6.3.5//NONSGML v1.0//EN
CALSCALE:GREGORIAN
METHOD:PUBLISH
X-ORIGINAL-URL:https://www.fiambertivini.it
X-WR-CALDESC:Eventi per Fiamberti Vini
REFRESH-INTERVAL;VALUE=DURATION:PT1H
X-Robots-Tag:noindex
X-PUBLISHED-TTL:PT1H
BEGIN:VTIMEZONE
TZID:Europe/Rome
BEGIN:DAYLIGHT
TZOFFSETFROM:+0100
TZOFFSETTO:+0200
TZNAME:CEST
DTSTART:20250330T010000
END:DAYLIGHT
BEGIN:STANDARD
TZOFFSETFROM:+0200
TZOFFSETTO:+0100
TZNAME:CET
DTSTART:20251026T010000
END:STANDARD
END:VTIMEZONE
BEGIN:VEVENT
DTSTART;VALUE=DATE:20250406
DTEND;VALUE=DATE:20250410
DTSTAMP:20260424T002052
CREATED:20250319T151907Z
LAST-MODIFIED:20250319T152138Z
UID:7889-1743897600-1744243199@www.fiambertivini.it
SUMMARY:Vinitaly 2025
DESCRIPTION:Saremo presenti alla 57esima edizione di Vinitaly\, salone internazionale del vino e dei distillati\, in programma a Verona da domenica 6 a mercoledì 9 aprile 2025. \nCi troverete nel Padiglione Lombardia (Palaexpo)\, area Oltrepò Pavese\, stand B10.
URL:https://www.fiambertivini.it/eventi-fiamberti-vini/vinitaly-2025/
LOCATION:Veronafiere\, Viale del Lavoro\, 8\, Verona\, Italia
CATEGORIES:Fiere
ATTACH;FMTTYPE=image/png:https://www.fiambertivini.it/wp-content/uploads/2025/03/vinitaly_2025_fiamberti.png
END:VEVENT
END:VCALENDAR