BEGIN:VCALENDAR
VERSION:2.0
PRODID:-//Fiamberti Vini - ECPv6.3.5//NONSGML v1.0//EN
CALSCALE:GREGORIAN
METHOD:PUBLISH
X-WR-CALNAME:Fiamberti Vini
X-ORIGINAL-URL:https://www.fiambertivini.it
X-WR-CALDESC:Eventi per Fiamberti Vini
REFRESH-INTERVAL;VALUE=DURATION:PT1H
X-Robots-Tag:noindex
X-PUBLISHED-TTL:PT1H
BEGIN:VTIMEZONE
TZID:Europe/Rome
BEGIN:DAYLIGHT
TZOFFSETFROM:+0100
TZOFFSETTO:+0200
TZNAME:CEST
DTSTART:20250330T010000
END:DAYLIGHT
BEGIN:STANDARD
TZOFFSETFROM:+0200
TZOFFSETTO:+0100
TZNAME:CET
DTSTART:20251026T010000
END:STANDARD
END:VTIMEZONE
BEGIN:VEVENT
DTSTART;TZID=Europe/Rome:20250510T110000
DTEND;TZID=Europe/Rome:20250511T210000
DTSTAMP:20260423T230233
CREATED:20250515T103616Z
LAST-MODIFIED:20250515T103831Z
UID:7913-1746874800-1746997200@www.fiambertivini.it
SUMMARY:Spumantitalia 2025
DESCRIPTION:Sabato 10 e domenica 11 maggio 2025 parteciperemo alla settima edizione di Spumantitalia\, il festival nazionale dedicato alle bollicine italiane. \nQuest’anno l’evento\, realizzato da Spumantitalia in collaborazione con Ebrezze di Gian Marco Gabarello\, si svolgerà nell’ambito della Bologna Wine Week: le sale di Palazzo Re Enzo ospiteranno due giorni di degustazioni\, masterclass e talk show dalle ore 11:00 alle ore 21:00. \nNoi presenteremo i nostri spumanti Metodo Classico da pinot nero\, fra i quali il Caristoro Ambrogio Fiamberti Pas Dosé 2013\, premiato da Bubble’s come Ambasciatore del Brindisi Italiano 2024. \nIl Caristoro Ambrogio Fiamberti Pas Dosé 2013 sarà anche uno degli spumanti protagonisti della masterclass “Oltrepò Pavese – Andiamo oltre la solita musica” che si terrà domenica 11 maggio alle ore 16:30. Per maggiori informazioni e per registrarsi alla masterclass visitate il sito della Bologna Wine Week.
URL:https://www.fiambertivini.it/eventi-fiamberti-vini/spumantitalia-2025-bologna-wine-week/
LOCATION:Palazzo Re Enzo\, Piazza Maggiore\, Bologna
CATEGORIES:Degustazioni
ATTACH;FMTTYPE=image/png:https://www.fiambertivini.it/wp-content/uploads/2025/05/bww.png
END:VEVENT
END:VCALENDAR