BEGIN:VCALENDAR
VERSION:2.0
PRODID:-//Fiamberti Vini - ECPv6.3.5//NONSGML v1.0//EN
CALSCALE:GREGORIAN
METHOD:PUBLISH
X-WR-CALNAME:Fiamberti Vini
X-ORIGINAL-URL:https://www.fiambertivini.it
X-WR-CALDESC:Eventi per Fiamberti Vini
REFRESH-INTERVAL;VALUE=DURATION:PT1H
X-Robots-Tag:noindex
X-PUBLISHED-TTL:PT1H
BEGIN:VTIMEZONE
TZID:Europe/Rome
BEGIN:DAYLIGHT
TZOFFSETFROM:+0100
TZOFFSETTO:+0200
TZNAME:CEST
DTSTART:20250330T010000
END:DAYLIGHT
BEGIN:STANDARD
TZOFFSETFROM:+0200
TZOFFSETTO:+0100
TZNAME:CET
DTSTART:20251026T010000
END:STANDARD
END:VTIMEZONE
BEGIN:VEVENT
DTSTART;VALUE=DATE:20251130
DTEND;VALUE=DATE:20251201
DTSTAMP:20260423T122337
CREATED:20251130T110009Z
LAST-MODIFIED:20251130T110009Z
UID:8043-1764460800-1764547199@www.fiambertivini.it
SUMMARY:Gambero Rosso Grand Tasting a Milano
DESCRIPTION:Domenica 30 novembre 2025 presenteremo il Buttafuoco Storico Vigna Solenga 2021\, premiato con i Tre Bicchieri\, al Gambero Rosso Grand Tasting\, grande banco di assaggio che sarà ospitato nelle sale dell’hotel Marriott di Milano dalle ore 17:00 alle ore 20:00. \nPer maggiori informazioni e per acquistare il vostro biglietto online visitate la pagina dell’evento sul sito del Gambero Rosso.
URL:https://www.fiambertivini.it/eventi-fiamberti-vini/gambero-rosso-grand-tasting/
LOCATION:Milan Marriott Hotel\, Via Giorgio Washington\, 66\, Milano\, Italia
CATEGORIES:Degustazioni
ATTACH;FMTTYPE=image/png:https://www.fiambertivini.it/wp-content/uploads/2025/11/gr_milano2026.png
END:VEVENT
END:VCALENDAR