BEGIN:VCALENDAR
VERSION:2.0
PRODID:-//Fiamberti Vini - ECPv6.3.5//NONSGML v1.0//EN
CALSCALE:GREGORIAN
METHOD:PUBLISH
X-ORIGINAL-URL:https://www.fiambertivini.it
X-WR-CALDESC:Eventi per Fiamberti Vini
REFRESH-INTERVAL;VALUE=DURATION:PT1H
X-Robots-Tag:noindex
X-PUBLISHED-TTL:PT1H
BEGIN:VTIMEZONE
TZID:Europe/Rome
BEGIN:DAYLIGHT
TZOFFSETFROM:+0100
TZOFFSETTO:+0200
TZNAME:CEST
DTSTART:20250330T010000
END:DAYLIGHT
BEGIN:STANDARD
TZOFFSETFROM:+0200
TZOFFSETTO:+0100
TZNAME:CET
DTSTART:20251026T010000
END:STANDARD
END:VTIMEZONE
BEGIN:VEVENT
DTSTART;VALUE=DATE:20250304
DTEND;VALUE=DATE:20250305
DTSTAMP:20260424T003018
CREATED:20250217T114758Z
LAST-MODIFIED:20250217T121022Z
UID:7851-1741046400-1741132799@www.fiambertivini.it
SUMMARY:Tre Bicchieri World Tour 2025 - New York
DESCRIPTION:Martedì 4 marzo 2025 presenteremo il nostro Buttafuoco Storico Vigna Solenga 2020\, Tre Bicchieri del Gambero Rosso 2025\, alla tappa di New York del tour mondiale dei Tre Bicchieri 2025. \nL’evento sarà ospitato presso il Metropolitan Pavilion dalle ore 13:00 alle 17:00.\nTrovate tutte le informazioni sull’evento sul sito di Gambero Rosso International.
URL:https://www.fiambertivini.it/eventi-fiamberti-vini/tre-bicchieri-world-tour-2025-new-york/
LOCATION:The Metropolitan Pavilion\, 125 West 18th Street\, New York\, NY\, 10011\, Stati Uniti
CATEGORIES:Degustazioni,Fiere
ATTACH;FMTTYPE=image/png:https://www.fiambertivini.it/wp-content/uploads/2025/02/gambero_us_tour_2025_ny.png
END:VEVENT
BEGIN:VEVENT
DTSTART;VALUE=DATE:20250306
DTEND;VALUE=DATE:20250307
DTSTAMP:20260424T003018
CREATED:20250217T120902Z
LAST-MODIFIED:20250217T121142Z
UID:7855-1741219200-1741305599@www.fiambertivini.it
SUMMARY:Tre Bicchieri World Tour 2025 - Chicago
DESCRIPTION:Giovedì 6 marzo 2025 presenteremo il nostro Buttafuoco Storico Vigna Solenga 2020\, Tre Bicchieri del Gambero Rosso 2025\, alla tappa di Chicago del tour mondiale dei Tre Bicchieri 2025. \nL’evento sarà ospitato presso il Bridgeport Art Center (Skyline Loft) dalle ore 13:00 alle 17:00.\nTrovate tutte le informazioni sull’evento sul sito di Gambero Rosso International.
URL:https://www.fiambertivini.it/eventi-fiamberti-vini/tre-bicchieri-world-tour-2025-chicago/
LOCATION:Bridgeport Art Center – Skyline Loft\, 1200 W. 35th Street\, Chicago\, IL\, IL\, 60609\, Stati Uniti
CATEGORIES:Degustazioni,Fiere
ATTACH;FMTTYPE=image/png:https://www.fiambertivini.it/wp-content/uploads/2025/02/gambero_us_tour_2025_chicago.png
END:VEVENT
BEGIN:VEVENT
DTSTART;VALUE=DATE:20250306
DTEND;VALUE=DATE:20250307
DTSTAMP:20260424T003018
CREATED:20250307T155419Z
LAST-MODIFIED:20250307T155504Z
UID:7882-1741219200-1741305599@www.fiambertivini.it
SUMMARY:Bollicine di storia
DESCRIPTION:Giovedì 6 marzo 2025 alle ore 20:30 la Casa del Buttafuoco di Canneto Pavese (PV) ospiterà una degustazione di sei Metodo Classico dell’Oltrepò Pavese condotta dalla sommelier Mayra Paolillo e intitolata “Bollicine di storia”. \nOltre alla nostra azienda\, parteciperanno le aziende Bruno Verdi\, Cantina Scuropasso\, Fratelli Giorgi\, La Costa e Quaquarini. Al termine della degustazione sarà servito un risotto. \nLa serata è proposta al prezzo di 40\,00 euro. \nPer informazioni e prenotazioni chiamate lo 0385. 60154.
URL:https://www.fiambertivini.it/eventi-fiamberti-vini/bollicine-di-storia/
LOCATION:Enoteca del Club del Buttafuoco Storico\, Frazione Vigalone\, 106\, Canneto Pavese (PV)\, CA
CATEGORIES:Degustazioni
ATTACH;FMTTYPE=image/png:https://www.fiambertivini.it/wp-content/uploads/2025/03/bollicinedistoria.png
END:VEVENT
BEGIN:VEVENT
DTSTART;TZID=Europe/Rome:20250315T170000
DTEND;TZID=Europe/Rome:20250316T190000
DTSTAMP:20260424T003018
CREATED:20250307T151455Z
LAST-MODIFIED:20250307T151533Z
UID:7880-1742058000-1742151600@www.fiambertivini.it
SUMMARY:Festival "DiVino e DiRiso - Alla scoperta del Buttafuoco Storico"
DESCRIPTION:Sabato 15 e domenica 16 marzo 2025 il centro storico di Vigevano (PV) ospiterà l’evento “DiVino e DiRiso – Alla Scoperta del Buttafuoco Storico”\, organizzato dal Comune di Vigevano con la collaborazione del Distretto Urbano del Commercio “La Dimora Sforzesca”\, il Consorzio Club del Buttafuoco Storico e FISAR Pavia. \nSabato 15 marzo dodici locali del centro storico ospiteranno altrettanti produttori di Buttafuoco Storico per degustazioni che si apriranno alle ore 17:00 e si chiuderanno alle ore 21:00. Le degustazioni saranno curate da un sommelier della FISAR di Pavia. \nTroverete il nostro Buttafuoco Storico Vigna Sacca del Prete in degustazione alla Prosciutteria Vineria Picca (via del Popolo\, 5). \nPer accedere alle degustazioni sarà necessario acquistare il pass (23\,00 euro per 3 degustazioni) presso lo stand del Club del Buttafuoco Storico allestito in Piazza Ducale. Sempre in Piazza Ducale sarà attivo nei due giorni della manifestazione un mercatino enogastronomico con i prodotti tipici del territorio (sabato: ore 10:00-20:00; domenica: ore 10:00-19:00). \nSabato 15 marzo nella sala dell’Affresco del Castello Sforzesco si terranno inoltre due incontri di approfondimento\, uno dedicato al vino e uno al riso:\n• ore 17:00 – “La storia del Buttafuoco” a cura del Consorzio Club del Buttafuoco Storico\n• ore 18:00 – “Chicchi d’autore” a cura della Dott.ssa Maria Passadore \nLa due giorni si chiuderà domenica con una risottata “da passeggio” al Buttafuoco a offerta libera\, in Piazza Ducale dalle ore 17:00 alle ore 19:00\, organizzata da Tenuta Mora Bassa e Club Rotary Cairoli.
URL:https://www.fiambertivini.it/eventi-fiamberti-vini/festival-divino-e-diriso-alla-scoperta-del-buttafuoco-storico-2/
LOCATION:Centro storico di Vigevano\, Piazza Ducale\, Vigevano\, Italia
CATEGORIES:Degustazioni
ATTACH;FMTTYPE=image/png:https://www.fiambertivini.it/wp-content/uploads/2025/03/vigevanodef.png
END:VEVENT
END:VCALENDAR