BEGIN:VCALENDAR
VERSION:2.0
PRODID:-//Fiamberti Vini - ECPv6.3.5//NONSGML v1.0//EN
CALSCALE:GREGORIAN
METHOD:PUBLISH
X-ORIGINAL-URL:https://www.fiambertivini.it
X-WR-CALDESC:Eventi per Fiamberti Vini
REFRESH-INTERVAL;VALUE=DURATION:PT1H
X-Robots-Tag:noindex
X-PUBLISHED-TTL:PT1H
BEGIN:VTIMEZONE
TZID:Europe/Rome
BEGIN:DAYLIGHT
TZOFFSETFROM:+0100
TZOFFSETTO:+0200
TZNAME:CEST
DTSTART:20250330T010000
END:DAYLIGHT
BEGIN:STANDARD
TZOFFSETFROM:+0200
TZOFFSETTO:+0100
TZNAME:CET
DTSTART:20251026T010000
END:STANDARD
END:VTIMEZONE
BEGIN:VEVENT
DTSTART;VALUE=DATE:20251012
DTEND;VALUE=DATE:20251013
DTSTAMP:20260423T122507
CREATED:20251011T213238Z
LAST-MODIFIED:20251011T213238Z
UID:7990-1760227200-1760313599@www.fiambertivini.it
SUMMARY:Degustazione dei Tre Bicchieri 2026 a Roma
DESCRIPTION:Domenica 12 ottobre 2025 saremo presenti con il Buttafuoco Storico Vigna Solenga 2021 alla degustazione dei vini premiati con i Tre Bicchieri del Gambero Rosso che si terrà a Roma presso il centro congressi La Nuvola. \nLa degustazione sarà aperta dalle ore 16:00 alle ore 20:00. \nPer maggiori informazioni e per acquistare il vostro biglietto online visitate la pagina dell’evento sul sito del Gambero Rosso.
URL:https://www.fiambertivini.it/eventi-fiamberti-vini/degustazione-dei-tre-bicchieri-2026-roma/
LOCATION:Convention center La Nuvola\, Viale Asia 40/44\, Roma\, Italia
CATEGORIES:Degustazioni
ATTACH;FMTTYPE=image/png:https://www.fiambertivini.it/wp-content/uploads/2025/10/tre_bicchieri_roma2026.png
END:VEVENT
END:VCALENDAR